BEGIN:VCALENDAR
VERSION:2.0
PRODID:-//Road Trip Ontario - ECPv6.15.20//NONSGML v1.0//EN
CALSCALE:GREGORIAN
METHOD:PUBLISH
X-WR-CALNAME:Road Trip Ontario
X-ORIGINAL-URL:https://roadtripontario.ca
X-WR-CALDESC:Events for Road Trip Ontario
REFRESH-INTERVAL;VALUE=DURATION:PT1H
X-Robots-Tag:noindex
X-PUBLISHED-TTL:PT1H
BEGIN:VTIMEZONE
TZID:UTC
BEGIN:STANDARD
TZOFFSETFROM:+0000
TZOFFSETTO:+0000
TZNAME:UTC
DTSTART:20230101T000000
END:STANDARD
END:VTIMEZONE
BEGIN:VEVENT
DTSTART;VALUE=DATE:20240413
DTEND;VALUE=DATE:20241222
DTSTAMP:20260424T175048
CREATED:20241007T113900Z
LAST-MODIFIED:20241007T113900Z
UID:14672-1712966400-1734825599@roadtripontario.ca
SUMMARY:Kensington Market 'Taste the World' Food Tour
DESCRIPTION:Experience the first and oldest food tour in Kensington Market! Welcome to Tasty Tours\, your passport to the flavors and stories of Kensington Market! What makes this eclectic neighborhood and National Historic Site so special? As the first and oldest food tour in Kensington Market\, no one else can show you Kensington like we can. \nWe’ll dive into a global culinary adventure – think ethnic eats like Tibetan dumplings and Jamaican patties that’ll have your taste buds dancing. Between bites\, soak up the market’s colorful vibe – from quirky mom-and-pop shops to eye-catching graffiti. Prepare to uncover the hidden stories and best-kept secrets of the market – you’ll leave feeling like a local. \nHIGHLIGHTS\n✔ Enjoy the insider knowledge that comes from being on Kensington Market’s first and oldest food tour!\n✔ Introduction to a variety of multi-cultural food stores\, ranging from hidden gems to hip trendsetters\n✔ Samples from each location (enough for lunch)\n✔ Guided tour on the history of the neighbourhood\, stores and food\n✔ VIP\, skip the line access to all locations \nGROUP SIZE\nMinimum group size of 2 people and a maximum of 12 people to ensure quality (smallest food tour groups in Toronto!) \nTIMING\nDaily (except Tuesdays)\, 11:00am – 1:30pm \nPRICING\nWebsite Special (best price guarantee)*\n$79 per person\nFree for kids under 7! \nYou haven’t truly been to Kensington Market until you’ve been on a Tasty Tour of Kensington Market.
URL:https://roadtripontario.ca/event/kensington-market-taste-the-world-food-tour/
LOCATION:Kensington Market 30 St Andrew St\, Canada
ATTACH;FMTTYPE=image/jpeg:https://roadtripontario.ca/wp-content/uploads/2024/10/14-1.jpg
END:VEVENT
BEGIN:VEVENT
DTSTART;TZID=UTC:20240505T140000
DTEND;TZID=UTC:20240517T180000
DTSTAMP:20260424T175048
CREATED:20241008T081612Z
LAST-MODIFIED:20241008T081612Z
UID:14700-1714917600-1715968800@roadtripontario.ca
SUMMARY:ROMWalks
DESCRIPTION:Discover Toronto with ROMWalks\, a collection of guided walking tours that take participants on a unique journey of urban discovery. \nOffered each year from May to October\, rain or shine\, each walk combines the excitement of exploring diverse and vibrant neighbourhoods with the expertise of knowledgeable guides and the adventure of learning. There are many neighbourhoods to explore\, each with its own story to tell. Stories that speak to history\, people\, architecture\, arts\, and much more. \nFree\, Plus\, and Private Group ROMWalks are available to the general public. Member Exclusive ROMWalks are also available to ROM Members. \nROMWalks are free and require no registration. Simply turn up at a walk’s starting point and look for the ROMWalks umbrella. Free walks are scheduled on Sundays at 2pm and Wednesdays at 6pm. \nROMWalks Plus are small sized group walks designed to introduce newly developed itineraries. Offered on select Sundays at 2pm\, the cost is $10 per person and pre-registration is required. \nPrivate Group ROMWalks are perfect for clubs\, corporate and community groups\, out-of-town visitors\, or large gatherings of friends and family. These walks can be scheduled for any available day and time. Cost is $10 per person with a group minimum of $100. \nMember Exclusive ROMWalks are free to ROM Members\, require registration\, and are scheduled on Saturdays. Members are notified by email about upcoming Member Exclusive walk dates and registration details. \n\n 
URL:https://roadtripontario.ca/event/romwalks/
LOCATION:Each walk takes place in a different location – check website for further details\, Canada
ATTACH;FMTTYPE=image/jpeg:https://roadtripontario.ca/wp-content/uploads/2024/10/18.jpg
END:VEVENT
BEGIN:VEVENT
DTSTART;TZID=UTC:20240506T100000
DTEND;TZID=UTC:20240512T180000
DTSTAMP:20260424T175048
CREATED:20240305T105640Z
LAST-MODIFIED:20240305T105640Z
UID:13051-1714989600-1715536800@roadtripontario.ca
SUMMARY:Wings Over The Rockies Nature Festival
DESCRIPTION:Every Spring\, for more than 25 years\, the beautiful Upper Columbia Valley has celebrated the return of spring migration and the re-awakening of nature with the Wings over the Rockies Nature Festival. The rich and varied habitats found along the Columbia River\, flanked by the Canadian Rockies and the Purcell range\, offer a welcoming environment for wildlife and for the birds returning to their nesting sites. \nWings over the Rockies Nature Festival is based out of the mountain town of Invermere\, BC\, Canada\, with the events stretching from Golden to the north\, down to Wasa in the south. \nOne of the premier Nature festivals in Western Canada\, participants can enjoy over 100 events during the 7 days from in-the-field excursions\, luncheon\, and evening presentations\, a soiree with keynote address\, and large music concert. Festival leaders and presenters share their understanding and passion of our natural world. Come join like-minded nature lovers and enjoy the wonders of the Upper Columbia Valley. \n“’The Wings over the Rockies Nature Festival’ conjures up an image of all that is great about Canada . . . spectacular scenery\, abundant nature and a warm\, human spirit of getting together in a worthy cause. The world over\, when people think of Canada\, they think of the glory of the Rockies. When you combine this with the upper reaches of the mighty Columbia\, you have an unsurpassed natural setting. The continuous wetlands along the river are perfect as breeding areas and staging places for a significant number of bird species. This and the many other habitats provide a variety of ecosystems which will bring joy to any naturalist. But the idea of this festival goes far beyond a “get-together” of serious naturalists. It is an ideal chance for everyone to learn and share the excitement of nature ‘in the flesh’ so to speak.” —Robert Bateman\, patron of the festival\, wildlife artist and environmentalist. \nBuy your tickets online starting Tuesday\, April 9 at 10:00am\, MDT. Please plan to be an “early bird” to get your event choices!\n  \nTicket: Unavailable
URL:https://roadtripontario.ca/event/wings-over-the-rockies-nature-festival/
LOCATION:Columbia Valley\, Invermere\, BC V0A 1K0\, Canada
ATTACH;FMTTYPE=image/jpeg:https://roadtripontario.ca/wp-content/uploads/2024/03/Wings-over-the-Rockies-Nature-Festival.jpg
END:VEVENT
BEGIN:VEVENT
DTSTART;TZID=UTC:20240510T100000
DTEND;TZID=UTC:20240520T220000
DTSTAMP:20260424T175048
CREATED:20240228T045041Z
LAST-MODIFIED:20240303T173824Z
UID:12895-1715335200-1716242400@roadtripontario.ca
SUMMARY:Canadian Tulip Festival
DESCRIPTION:One of the prettiest Canadian festivals\, the Canadian Tulip Festival is annually hosted at the Commissioners Park in Ottawa. The vision of the Tulip Festival is to remind Canadians about the crucial role their troops played in the liberation of the Netherlands in 1945. The Festival is typically free and one can even purchase tulip bulbs to plant at their homes and maintain sustainability in Canada’s horticulture scene. Each year\, the festival structures a theme\, and the celebrations highlight its importance. The theme of 2021 for one of the best Canadian festivals was “Liberation 75+1 and Rembrandt & Dutch Masters”.
URL:https://roadtripontario.ca/event/canadian-tulip-festival/
LOCATION:Ottawa and Quebec\, Canada
CATEGORIES:Free Events
ATTACH;FMTTYPE=image/jpeg:https://roadtripontario.ca/wp-content/uploads/2024/02/Canadia-Tulip-Festival.jpg
END:VEVENT
BEGIN:VEVENT
DTSTART;TZID=UTC:20240511T103000
DTEND;TZID=UTC:20240511T123000
DTSTAMP:20260424T175048
CREATED:20240314T083608Z
LAST-MODIFIED:20240314T083608Z
UID:13426-1715423400-1715430600@roadtripontario.ca
SUMMARY:Mother’s Day Tea: Historic Cooking Workshop
DESCRIPTION:No other meal conjures up images of the Victorian era more than Afternoon Tea. During this workshop\, you’ll work with Dundurn’s historic cooks to prepare nineteenth-century recipes by the wood-fired range. Then visit Dundurn above stairs to discover tea traditions during the MacNab family’s time and explore below stairs to learn about the role of the household staff in preparing and serving tea for family and guests. The workshop concludes with a cozy early Afternoon Tea all together by gaslight in the historic kitchen.\n \n  \n 
URL:https://roadtripontario.ca/event/mothers-day-tea-historic-cooking-workshop/
LOCATION:Dundurn National Historic Site\, Canada
ATTACH;FMTTYPE=image/jpeg:https://roadtripontario.ca/wp-content/uploads/2024/03/gallery_dundurn-macnab-kitchen.jpg
END:VEVENT
BEGIN:VEVENT
DTSTART;TZID=UTC:20240518T150000
DTEND;TZID=UTC:20240519T220000
DTSTAMP:20260424T175048
CREATED:20240326T073656Z
LAST-MODIFIED:20240326T073656Z
UID:13761-1716044400-1716156000@roadtripontario.ca
SUMMARY:Electric Island
DESCRIPTION:The Toronto music scene is about to experience one of its biggest summers yet\, as the much-anticipated Electric Island 2024 Summer Concert Series has just been announced. With the event now in its 12th season\, fans of electronic music and outdoor concerts can expect an even bigger and better experience than ever before. The lineup for this year’s series is already causing a buzz\, with headliner SOLOMUN\, the renowned DJ and producer\, set to bring his high-energy and captivating performances to the iconic Toronto venue. \n  \nThose looking to attend this highly sought-after event can secure their tickets now\, with a variety of options available for purchase. From single-day passes to season passes\, there is something for everyone to choose from. \nBut it’s not just the lineup and ticket options that are causing excitement for this year’s Electric Island series. The event will be taking place at the picturesque Toronto Islands\, Echo Beach\, Fort York\, and Woodbine creating a unique and immersive experience for attendees. With beautiful views of the city skyline and Lake Ontario\, this outdoor venue will surely add to the already electric atmosphere.
URL:https://roadtripontario.ca/event/electric-island/
LOCATION:Echo Beach Toronto
ATTACH;FMTTYPE=image/jpeg:https://roadtripontario.ca/wp-content/uploads/2024/03/Electric-Island.jpg
END:VEVENT
BEGIN:VEVENT
DTSTART;TZID=UTC:20240520T210000
DTEND;TZID=UTC:20240520T213000
DTSTAMP:20260424T175048
CREATED:20240311T131056Z
LAST-MODIFIED:20240311T131056Z
UID:13339-1716238800-1716240600@roadtripontario.ca
SUMMARY:Victoria Day Fireworks
DESCRIPTION:Get ready to honor a royal legend this May 20\, as we celebrate Victoria Day! Marking the official birthday of Queen Victoria\, known as the Mother of Confederation\, this holiday is steeped in colorful history. Ever since its inception in 1845\, Victoria Day has gloriously underscored the beginning of the summer season in Canada\, involving exciting firework displays\, grand parades\, and family picnics. Relive the past\, savor the present\, and join us as we immerse ourselves in vibrant traditions that bring communities together and make this day all about unity\, joy\, and reverence for a monarch who left an indelible mark in history. Let’s make Victoria Day truly special this year! \n  \nThe firework displays can be seen in the evening at several places across Toronto. The greatest of all is at Ashbridges Bay. You can also watch Ashbridge’s fireworks from Balmy Beach Park\, which offers food as a bonus. Another shindig takes place at Canada’s Wonderland\, featuring astounding 6\,000 explosions. \nThe Victoria Day weekend is quite a big deal for the locals as it marks beginning of spring and summer. People get ready for the warm season with a blast\, and fireworks are the great representation of that. Colorful lights cover the sky above for 14 minutes\, having Toronto bathed in the sparking beauty of the gorgeous pyrotechnics. However\, it’s not just about fireworks. On this day\, Toronto packs a punch with entertainment: attraction parks and outdoor venues open for the summer. so visitors have plenty of fun options to choose from.
URL:https://roadtripontario.ca/event/victoria-day-fireworks/
LOCATION:Ashbridges Bay
ATTACH;FMTTYPE=image/webp:https://roadtripontario.ca/wp-content/uploads/2024/03/toronto-victoria-day-fireworks.webp
END:VEVENT
BEGIN:VEVENT
DTSTART;VALUE=DATE:20240524
DTEND;VALUE=DATE:20240526
DTSTAMP:20260424T175048
CREATED:20240306T113210Z
LAST-MODIFIED:20240306T113210Z
UID:13085-1716508800-1716681599@roadtripontario.ca
SUMMARY:RetroFest and Ribfest Chatham
DESCRIPTION:While the combination of RetroFest and Ribfest Chatham is only planned for this year\, the partnership could continue into future years depending on how it’s received\, the project manager for the Historic Downtown Chatham BIA has said. \n  \nKicking off the unofficial Classic Car Season in Chatham-Kent annually\, is RetroFest. Attracting thousands of car enthusiasts and families annually\, this is a not miss event. Awarded again in 2024\, a Festival Events Ontario Top 100 event – RetroFest will delight all of your senses. \nOn Friday\, May 24\, the event revs up with a “New Gen/Old Gen” Car Party in the Downtown Chatham Centre Parking lot along with plenty of action at Tecumseh Park. \nSaturday\, May 25\, hundreds of cars adorn the street of downtown Chatham thanks to the hard work of the Kent Historic Auto Club Classic Car Show. Take a stroll through the downtown core to see classic cars of all vintages\, proudly displayed by their owners. Don’t be afraid to ask questions and take pictures of your favourites! \nAll weekend long\, be sure to head into Tecumseh Park\, filled with vendors\, rides and retro-fun activities for the whole family\, and a weekend of live entertainment.
URL:https://roadtripontario.ca/event/retrofest-and-ribfest-chatham/
LOCATION:Tecumseh Park\, Canada
ATTACH;FMTTYPE=image/jpeg:https://roadtripontario.ca/wp-content/uploads/2024/03/retrofest.jpg
END:VEVENT
BEGIN:VEVENT
DTSTART;TZID=UTC:20240524T120000
DTEND;TZID=UTC:20240526T230000
DTSTAMP:20260424T175048
CREATED:20240320T143111Z
LAST-MODIFIED:20240320T143111Z
UID:13547-1716552000-1716764400@roadtripontario.ca
SUMMARY:Carassauga Festival Celebration since 1986
DESCRIPTION:The Carassauga; Festival of Cultures will be one of the biggest attractions this May as we stand as one of the largest multicultural showcases in Ontario and also in all of Canada. Various countries bring you the best of food\, music\, dance\, art\, and history in a packed 3-day weekend. Join us as the world comes to Mississauga for the biggest spectacle of music\, food\, and culture. Join us for CARASSAUGA. \nCarassauga Festival is an incorporated non-profit volunteer community organization celebrating multiculturalism since 1986. Recognized as Canada’s largest multicultural Festival\, Carassauga’s vision is to organize a city-wide family friendly multicultural festival suitable for all ages to promote understanding\, respect\, and co-operation among all Canadians of a different heritage. \nA passport entitles the visitor to unlimited visits to all the Cultural Pavilions with access to live performances\, various foods\, and kids activities throughout the Festival weekend. Children 12 and under are FREE when accompanied by an Adult Passport holder. The passport also allows you FREE Ridership on all MiWay regularly scheduled bus routes and on special Carassauga buses connecting all the locations during the Festival’s operating hours. \n  \nCarassauga Admission Price – $15.00 per person (13 yrs and older) \nKids 12 and younger are Free. \nDate & Time: \nMay 24 to 26\, 2024 \nFriday May 24 – 7 pm to 10 pm (Opening Ceremony Only) \nSaturday May 25 – 12 pm to 11 pm \nSunday May 26 – 12 pm to 7 pm
URL:https://roadtripontario.ca/event/carassauga-festival-celebration-since-1986/
LOCATION:Frank McKechnie Community Centre
ATTACH;FMTTYPE=image/jpeg:https://roadtripontario.ca/wp-content/uploads/2024/03/Carassauga.jpg
END:VEVENT
BEGIN:VEVENT
DTSTART;TZID=UTC:20240530T180000
DTEND;TZID=UTC:20240530T210000
DTSTAMP:20260424T175048
CREATED:20240304T102829Z
LAST-MODIFIED:20240304T102829Z
UID:12977-1717092000-1717102800@roadtripontario.ca
SUMMARY:Chocolate Fest 2024
DESCRIPTION:Indulge your sweet tooth and immerse yourself in a world of decadent treats and amazing artwork. Chocolate Fest 2024 is a celebration of all things chocolate\, bringing the community together over a mutual love of sweet treats. \nAt this in-person event\, you’ll have the opportunity to sample a wide array of chocolate creations from local artisans and chocolatiers. From rich dark chocolate to creamy milk chocolate\, there’s something to satisfy every craving. \nImmerse yourself in the chocolate-themed atmosphere as you explore various tables from amazing vendors\, each offering unique and mouthwatering chocolate delicacies. Whether you prefer classic truffles\, velvety smooth bonbons\, or innovative chocolate-infused desserts\, you’ll find it all here. \nIndulge in the sweetest experience as you discover new flavours\, browse the collection at the Art Gallery of Hamilton\, and bid on incredible silent auction prizes. Our event promises a memorable evening filled with chocolatey delights and a chance to meet fellow chocolate enthusiasts. \nDon’t miss out on this delectable event! Mark your calendars for Chocolate Fest 2024 at the Art Gallery of Hamilton. Come and experience a chocolate extravaganza like no other! All proceeds support SACHA in delivering essential services to survivors of sexual violence and to the community.
URL:https://roadtripontario.ca/event/chocolate-fest-2024/
LOCATION:Art Gallery of Hamilton\, 123 King Street West Hamilton\, ON
ATTACH;FMTTYPE=image/jpeg:https://roadtripontario.ca/wp-content/uploads/2024/03/Chocolate-Fest.jpg
END:VEVENT
BEGIN:VEVENT
DTSTART;VALUE=DATE:20240531
DTEND;VALUE=DATE:20240603
DTSTAMP:20260424T175048
CREATED:20240312T045410Z
LAST-MODIFIED:20240312T045410Z
UID:13360-1717113600-1717372799@roadtripontario.ca
SUMMARY:Orangeville Blues and Jazz Festival
DESCRIPTION:The award-winning Orangeville Blues & Jazz Festival returns to downtown Orangeville. \nRecognized among the Top 100 Festivals and Events in Ontario\, the festival represents a community-wide celebration of great blues and jazz music featuring over 75 acts performing throughout the weekend on multiple stages. In addition\, there will be free events such as the popular Friday Night Blues Cruise\, the Saturday Broadway Ramble\, the Sunday Blues & Bikes event\, and much more. \n  \nMay 31 to June 2\, 2024 – Schedule \nFriday: 5PM – 10PM\nSaturday: 12 Noon – 10PM\nSunday: 12 noon to 6:00PM
URL:https://roadtripontario.ca/event/orangeville-blues-and-jazz-festival/
LOCATION:Alexandra Park – Orangeville
ATTACH;FMTTYPE=image/jpeg:https://roadtripontario.ca/wp-content/uploads/2024/03/Blues-and-Jazz.jpg
END:VEVENT
BEGIN:VEVENT
DTSTART;VALUE=DATE:20240531
DTEND;VALUE=DATE:20240603
DTSTAMP:20260424T175048
CREATED:20240326T090428Z
LAST-MODIFIED:20240326T090428Z
UID:13770-1717113600-1717372799@roadtripontario.ca
SUMMARY:Prepare The Ground 2024
DESCRIPTION:A new festival is coming to town. Well\, town if you live in Toronto. Featuring acts like a 40 Watt Sun solo set\, a Burning Love reunion\, Emma Ruth Rundle\, Marissa Nadler\, Terminal Nation\, Planning for Burial\, Thantifaxath\, and more\, Prepare the Ground\, from May 31st to June 2nd\, 2024\, fest is poised to be a great time. \nPrepare the Ground is a music festival taking inspiration from art-focused heavy music festivals in Europe like Roadburn\, Amplifest\, Sonicboom\, and more. Leaning into the motif that heavy is a feeling as opposed to a dedication to distortion\, as well as fostering a true community of like-minded artists & attendees. \n  \nAs of March 2024\, the operating hours schedule of the event is not yet available.
URL:https://roadtripontario.ca/event/prepare-the-ground-2024/
LOCATION:Phoenix Concert Theatre\, Lee’s Palace\, The Garrison\, The Baby G\, Bar Orwell
ATTACH;FMTTYPE=image/jpeg:https://roadtripontario.ca/wp-content/uploads/2024/03/Prepare-the-Ground.jpg
END:VEVENT
BEGIN:VEVENT
DTSTART;TZID=UTC:20240531T080000
DTEND;TZID=UTC:20240601T170000
DTSTAMP:20260424T175048
CREATED:20240326T084529Z
LAST-MODIFIED:20240326T084529Z
UID:13766-1717142400-1717261200@roadtripontario.ca
SUMMARY:Meadows Music Festival 2024
DESCRIPTION:Farm League Brewing is thrilled to announce the inaugural Meadows Music Festival\, a celebration of craft beer\, local vendors\, and live music. \nIn addition to the music\, the Meadows Music Festival will offer an array of local vendors\, serving up delicious food and drinks throughout the event. Attendees can expect to find a selection of craft beer from Farm League Brewing\, as well as a variety of other refreshing beverages. \nMeadows Music Festival is a licensed and family-friendly event\, welcoming attendees of all ages. Children 12 and under can attend the festival for free with an adult who has a ticket\, making it the perfect opportunity for families to enjoy a weekend of great music and entertainment.
URL:https://roadtripontario.ca/event/meadows-music-festival-2024/
LOCATION:Fergus
ATTACH;FMTTYPE=image/jpeg:https://roadtripontario.ca/wp-content/uploads/2024/03/Meadow-Music-Festival.jpg
END:VEVENT
END:VCALENDAR