BEGIN:VCALENDAR
VERSION:2.0
PRODID:-//Road Trip Ontario - ECPv6.15.20//NONSGML v1.0//EN
CALSCALE:GREGORIAN
METHOD:PUBLISH
X-ORIGINAL-URL:https://roadtripontario.ca
X-WR-CALDESC:Events for Road Trip Ontario
REFRESH-INTERVAL;VALUE=DURATION:PT1H
X-Robots-Tag:noindex
X-PUBLISHED-TTL:PT1H
BEGIN:VTIMEZONE
TZID:UTC
BEGIN:STANDARD
TZOFFSETFROM:+0000
TZOFFSETTO:+0000
TZNAME:UTC
DTSTART:20230101T000000
END:STANDARD
END:VTIMEZONE
BEGIN:VEVENT
DTSTART;VALUE=DATE:20240822
DTEND;VALUE=DATE:20240826
DTSTAMP:20260423T063444
CREATED:20240226T063747Z
LAST-MODIFIED:20240226T063747Z
UID:12778-1724284800-1724630399@roadtripontario.ca
SUMMARY:Sun Life Waterloo Busker Carnival
DESCRIPTION:Celebrating 36 years of fun! The Sun Life Waterloo Busker Carnival is a not-for-profit\, volunteer-driven carnival that has been entertaining families in the Waterloo Region since 1989. From acrobats to contortion\, comedy\, and fire breathers\, the carnival brings the best international artists in the world to UpTown Waterloo for four days. \n  \nBe prepared to laugh and be amazed. Take some time to stop at our vendors to enjoy some international foods and do some shopping. Take in some of your favorite shows\, try your hand at the midway games\, and don’t forget a ride on our famous Ferris wheel with amazing views. It’s fun for the whole family. \n  \nAdmission to the carnival is free. The artists make their living by the tips they receive. While they receive some travel assistance they are not paid by the carnival. After each show\, the artists will “pass the hat” for your tips and donations. If you enjoyed the show\, please contribute an amount that you can afford as a thank you. How much you tip is up to you.
URL:https://roadtripontario.ca/event/sun-life-waterloo-busker-carnival/
LOCATION:Sun Life Waterloo Busker Carnival\, Huron\, Perth\, Waterloo and Wellington\, ON\, N2J 4P9\, Canada
CATEGORIES:Waterloo Region,Wellington County
ATTACH;FMTTYPE=image/jpeg:https://roadtripontario.ca/wp-content/uploads/2024/02/waterloo2.jpg
END:VEVENT
END:VCALENDAR