BEGIN:VCALENDAR
VERSION:2.0
PRODID:-//Road Trip Ontario - ECPv6.15.20//NONSGML v1.0//EN
CALSCALE:GREGORIAN
METHOD:PUBLISH
X-WR-CALNAME:Road Trip Ontario
X-ORIGINAL-URL:https://roadtripontario.ca
X-WR-CALDESC:Events for Road Trip Ontario
REFRESH-INTERVAL;VALUE=DURATION:PT1H
X-Robots-Tag:noindex
X-PUBLISHED-TTL:PT1H
BEGIN:VTIMEZONE
TZID:UTC
BEGIN:STANDARD
TZOFFSETFROM:+0000
TZOFFSETTO:+0000
TZNAME:UTC
DTSTART:20230101T000000
END:STANDARD
END:VTIMEZONE
BEGIN:VEVENT
DTSTART;VALUE=DATE:20240413
DTEND;VALUE=DATE:20241222
DTSTAMP:20260424T175052
CREATED:20241007T113900Z
LAST-MODIFIED:20241007T113900Z
UID:14672-1712966400-1734825599@roadtripontario.ca
SUMMARY:Kensington Market 'Taste the World' Food Tour
DESCRIPTION:Experience the first and oldest food tour in Kensington Market! Welcome to Tasty Tours\, your passport to the flavors and stories of Kensington Market! What makes this eclectic neighborhood and National Historic Site so special? As the first and oldest food tour in Kensington Market\, no one else can show you Kensington like we can. \nWe’ll dive into a global culinary adventure – think ethnic eats like Tibetan dumplings and Jamaican patties that’ll have your taste buds dancing. Between bites\, soak up the market’s colorful vibe – from quirky mom-and-pop shops to eye-catching graffiti. Prepare to uncover the hidden stories and best-kept secrets of the market – you’ll leave feeling like a local. \nHIGHLIGHTS\n✔ Enjoy the insider knowledge that comes from being on Kensington Market’s first and oldest food tour!\n✔ Introduction to a variety of multi-cultural food stores\, ranging from hidden gems to hip trendsetters\n✔ Samples from each location (enough for lunch)\n✔ Guided tour on the history of the neighbourhood\, stores and food\n✔ VIP\, skip the line access to all locations \nGROUP SIZE\nMinimum group size of 2 people and a maximum of 12 people to ensure quality (smallest food tour groups in Toronto!) \nTIMING\nDaily (except Tuesdays)\, 11:00am – 1:30pm \nPRICING\nWebsite Special (best price guarantee)*\n$79 per person\nFree for kids under 7! \nYou haven’t truly been to Kensington Market until you’ve been on a Tasty Tour of Kensington Market.
URL:https://roadtripontario.ca/event/kensington-market-taste-the-world-food-tour/
LOCATION:Kensington Market 30 St Andrew St\, Canada
ATTACH;FMTTYPE=image/jpeg:https://roadtripontario.ca/wp-content/uploads/2024/10/14-1.jpg
END:VEVENT
BEGIN:VEVENT
DTSTART;TZID=UTC:20240606T070000
DTEND;TZID=UTC:20240609T190000
DTSTAMP:20260424T175052
CREATED:20240320T145315Z
LAST-MODIFIED:20240320T145315Z
UID:13551-1717657200-1717959600@roadtripontario.ca
SUMMARY:Barrie Automotive Flea Market
DESCRIPTION:Canada’s Finest Automotive Flea Market offers everything from collectibles & classic cars to those hard-to-find car parts. If you can’t find it here\, you can’t find it anywhere. It’s a Car Lover’s Dream – Car Sales Corral\, Show & Shine\, and thousands of vendors. You Won’t Believe Your Eyes. Bring your friends & family and stay in our convenient campground. \n  \nChildren 12 and under Free (when accompanied by an adult)
URL:https://roadtripontario.ca/event/barrie-automotive-flea-market/
LOCATION:Oro Station
ATTACH;FMTTYPE=image/jpeg:https://roadtripontario.ca/wp-content/uploads/2024/03/BAFM.jpg
END:VEVENT
BEGIN:VEVENT
DTSTART;TZID=UTC:20240608T100000
DTEND;TZID=UTC:20240609T160000
DTSTAMP:20260424T175052
CREATED:20240311T132547Z
LAST-MODIFIED:20240311T132547Z
UID:13348-1717840800-1717948800@roadtripontario.ca
SUMMARY:The 20th Annual Peony Festival
DESCRIPTION:Experience the allure of Oshawa at the award-winning Peony Festival\, a captivating free two-day event hosted by the City of Oshawa. \nImmerse yourself in the splendor of the Oshawa Valley Botanical Garden and The Michael and Judi Denny Peony Garden. Visit the peony garden to experience a variety of handmade artisan merchandise vendors\, community displays\, delicious food\, live entertainment\, and a prestigious judged peony competition featuring breathtaking blooms.
URL:https://roadtripontario.ca/event/the-20th-annual-peony-festival/
LOCATION:Oshawa Valley Botanical Garden\, Canada
ATTACH;FMTTYPE=image/webp:https://roadtripontario.ca/wp-content/uploads/2024/03/peony_festival.webp
END:VEVENT
BEGIN:VEVENT
DTSTART;TZID=UTC:20240608T110000
DTEND;TZID=UTC:20240609T160000
DTSTAMP:20260424T175052
CREATED:20240308T100806Z
LAST-MODIFIED:20240308T101545Z
UID:13203-1717844400-1717948800@roadtripontario.ca
SUMMARY:Brampton KiteFest
DESCRIPTION:Celebrating 10 Years Colouring the Sky\nThe Brampton KiteFest is a two-day\, outdoor family-friendly celebration of kites\, kite fliers\, learning\, and eco-friendly recreation. \nChildren learn the joys of building and flying their own kite (and the science behind it)\, and parents and grandparents connect with their inner child! \nBrampton KiteFest attendees can bring their own kites to fly or watch professional fliers paint the skies with their choreographed performances. \nIt’s a great day for families to get outdoors\, relax\, connect\, and enjoy the friendly community atmosphere.  Join us for a spectacular family event filled with food\, fun\, and community spirit! \nFrom food to other fun things\, we’ve partnered with local vendors and community organizations to create an unforgettable experience. \nFor the adventurous and young at heart\, there’s Hector’s Fun Park\, featuring three fun inflatables including a 3-person slide\, obstacle course\, and corn maze (requires wristband). They’ll have a blast jumping\, laughing\, and making new friends in our safe and welcoming environment. \n  \nMay 2024\, price of ticket is not yet available. \n 
URL:https://roadtripontario.ca/event/brampton-kitefest/
LOCATION:Heart Lake Road\, Caledon\, Canada
ATTACH;FMTTYPE=image/jpeg:https://roadtripontario.ca/wp-content/uploads/2024/03/kitefest.jpg
END:VEVENT
END:VCALENDAR