BEGIN:VCALENDAR
VERSION:2.0
PRODID:-//Road Trip Ontario - ECPv6.15.20//NONSGML v1.0//EN
CALSCALE:GREGORIAN
METHOD:PUBLISH
X-ORIGINAL-URL:https://roadtripontario.ca
X-WR-CALDESC:Events for Road Trip Ontario
REFRESH-INTERVAL;VALUE=DURATION:PT1H
X-Robots-Tag:noindex
X-PUBLISHED-TTL:PT1H
BEGIN:VTIMEZONE
TZID:UTC
BEGIN:STANDARD
TZOFFSETFROM:+0000
TZOFFSETTO:+0000
TZNAME:UTC
DTSTART:20230101T000000
END:STANDARD
END:VTIMEZONE
BEGIN:VEVENT
DTSTART;VALUE=DATE:20240413
DTEND;VALUE=DATE:20241222
DTSTAMP:20260424T173818
CREATED:20241007T113900Z
LAST-MODIFIED:20241007T113900Z
UID:14672-1712966400-1734825599@roadtripontario.ca
SUMMARY:Kensington Market 'Taste the World' Food Tour
DESCRIPTION:Experience the first and oldest food tour in Kensington Market! Welcome to Tasty Tours\, your passport to the flavors and stories of Kensington Market! What makes this eclectic neighborhood and National Historic Site so special? As the first and oldest food tour in Kensington Market\, no one else can show you Kensington like we can. \nWe’ll dive into a global culinary adventure – think ethnic eats like Tibetan dumplings and Jamaican patties that’ll have your taste buds dancing. Between bites\, soak up the market’s colorful vibe – from quirky mom-and-pop shops to eye-catching graffiti. Prepare to uncover the hidden stories and best-kept secrets of the market – you’ll leave feeling like a local. \nHIGHLIGHTS\n✔ Enjoy the insider knowledge that comes from being on Kensington Market’s first and oldest food tour!\n✔ Introduction to a variety of multi-cultural food stores\, ranging from hidden gems to hip trendsetters\n✔ Samples from each location (enough for lunch)\n✔ Guided tour on the history of the neighbourhood\, stores and food\n✔ VIP\, skip the line access to all locations \nGROUP SIZE\nMinimum group size of 2 people and a maximum of 12 people to ensure quality (smallest food tour groups in Toronto!) \nTIMING\nDaily (except Tuesdays)\, 11:00am – 1:30pm \nPRICING\nWebsite Special (best price guarantee)*\n$79 per person\nFree for kids under 7! \nYou haven’t truly been to Kensington Market until you’ve been on a Tasty Tour of Kensington Market.
URL:https://roadtripontario.ca/event/kensington-market-taste-the-world-food-tour/
LOCATION:Kensington Market 30 St Andrew St\, Canada
ATTACH;FMTTYPE=image/jpeg:https://roadtripontario.ca/wp-content/uploads/2024/10/14-1.jpg
END:VEVENT
BEGIN:VEVENT
DTSTART;TZID=UTC:20240601T120000
DTEND;TZID=UTC:20240604T200000
DTSTAMP:20260424T173818
CREATED:20240307T130440Z
LAST-MODIFIED:20240307T132959Z
UID:13126-1717243200-1717531200@roadtripontario.ca
SUMMARY:Downtown Milton Summerfest
DESCRIPTION:Downtown Milton SummerFest is happening on Saturday\, June 1\, 2024. It is hosted by the Downtown Milton Business Improvement Area with support from the Town of Milton. It is a city-wide celebration of the community and local businesses – featuring over 1000 participating local businesses\, pop-up markets\, and entertainment activations across Hamilton\, Ontario. \nBursting with community pride and entertainment\, it offers a premiere opportunity for local and regional visitors to explore\, connect with\, and shop all areas of their city.
URL:https://roadtripontario.ca/event/downtown-milton-summerfest/
LOCATION:Downtown Milton\, Canada
ATTACH;FMTTYPE=image/jpeg:https://roadtripontario.ca/wp-content/uploads/2024/03/Summerfest.jpg
END:VEVENT
BEGIN:VEVENT
DTSTART;VALUE=DATE:20240602
DTEND;VALUE=DATE:20240609
DTSTAMP:20260424T173818
CREATED:20240314T103311Z
LAST-MODIFIED:20240314T103311Z
UID:13429-1717286400-1717891199@roadtripontario.ca
SUMMARY:42nd Canadian Music Week
DESCRIPTION:Join us in 2024 as we mark the 42nd anniversary of Canadian Music Week\, and immerse yourself in an unforgettable in-person experience right in the vibrant heart of Toronto! \nOur four-day extravaganza kicks off on Sunday\, June 2nd\, with the New Podcast Summit and a swanky delegate party. The excitement continues with a comprehensive music summit that delves into every facet of the industry. Don’t miss out!
URL:https://roadtripontario.ca/event/42nd-canadian-music-week/
LOCATION:The Westin Harbour Castle
ATTACH;FMTTYPE=image/png:https://roadtripontario.ca/wp-content/uploads/2024/03/42nd-Canadian-Music-Week.png
END:VEVENT
BEGIN:VEVENT
DTSTART;TZID=UTC:20240604T140000
DTEND;TZID=UTC:20240604T200000
DTSTAMP:20260424T173818
CREATED:20240307T091923Z
LAST-MODIFIED:20240307T091923Z
UID:13119-1717509600-1717531200@roadtripontario.ca
SUMMARY:St. Catharines Holi Festival of Colour
DESCRIPTION:Holi Festival of Colour is returning to Downtown St. Catharines for a third year! \nHoli is a Hindu festival that celebrates the beginning of spring\, also known as the Festival of Colours & Festival of Love. It is a joyous day to come together\, celebrate fresh beginnings\, love and happiness. \nHindu in origin\, Holi Festival is celebrated throughout South Asia and around the globe\, and celebrates singing\, dancing\, peace\, fun\, laughter\, forgiveness and of course…colour! \nJoin us in Downtown St. Catharines for a fun day filled with South Asian culture\, food\, and a colour festival like no other! \nPlease register in advance as capacity is limited. \nWHEN: Saturday\, June 24 | 2 p.m.. – 8 p.m. \nWHERE: St. Paul Street (Bond Street – Court Street) \nADMISSION: \n\nGeneral Admission is FREE\nWe encourage you to attend the full length of the event\, however\, for the COLOUR PIT\, due to limited capacity please book either session: 3-5pm or 5:30-7:30pm when pre-registering.\n\nPRE-REGISTRATION ENDS WEDNESDAY\, JUNE 21 AT 11:59PM EST \nT-shirts available for sale on-site. We recommend pre-ordering your T-shirts before hand (Save 50% by pre-registering!) \nCASH ONLY WILL BE ON SITE – Day of Event prices are as follows: \n\nGeneral Admission is FREE\nWhite T-shirt $10\n\n** Paint powder provided onsite by the Holi Festival of Colour is non-toxic. For this reason\, we recommend using our paint powders provided and assume no responsibility for any reactions to attendees’ own paint powder products. ** \n** In addition to paint\, water will be sprayed during this event\, please expect tot get wet! ** \n  \nFOOD: \nEnjoy delicious authentic Indian cuisine during your Holi Festival of Colour experience. \nChoose from the following options during pre-registration only. \nKhas Patti Snack Box: Includes Pakora\, Samosa\, a drink and a dessert…….$5 \nBansaree Authentic Indian Cuisine: Chicken or Vegetable Biranyi with rice pudding…………..$10 \nMUST PRE-ORDER BEFORE WEDNESDAY\, JUNE 21 AT 11:59PM EST \n  \n 
URL:https://roadtripontario.ca/event/st-catharines-holi-festival-of-colour/
LOCATION:Downtown St. Catharines\, Canada
ATTACH;FMTTYPE=image/jpeg:https://roadtripontario.ca/wp-content/uploads/2024/03/Holi-Festival-of-Colour.jpg
END:VEVENT
END:VCALENDAR