BEGIN:VCALENDAR
VERSION:2.0
PRODID:-//Road Trip Ontario - ECPv6.15.20//NONSGML v1.0//EN
CALSCALE:GREGORIAN
METHOD:PUBLISH
X-WR-CALNAME:Road Trip Ontario
X-ORIGINAL-URL:https://roadtripontario.ca
X-WR-CALDESC:Events for Road Trip Ontario
REFRESH-INTERVAL;VALUE=DURATION:PT1H
X-Robots-Tag:noindex
X-PUBLISHED-TTL:PT1H
BEGIN:VTIMEZONE
TZID:UTC
BEGIN:STANDARD
TZOFFSETFROM:+0000
TZOFFSETTO:+0000
TZNAME:UTC
DTSTART:20230101T000000
END:STANDARD
END:VTIMEZONE
BEGIN:VEVENT
DTSTART;TZID=UTC:20240405T110000
DTEND;TZID=UTC:20240414T170000
DTSTAMP:20260426T033346
CREATED:20240307T072742Z
LAST-MODIFIED:20240307T072742Z
UID:13107-1712314800-1713114000@roadtripontario.ca
SUMMARY:Niagara Grape and Wine Festival
DESCRIPTION:Experience Canada’s largest wine festival! Celebrating 68 years of Niagara wine in historic Montebello Park\, downtown St. Catharines! Bring your friends and get ready for the best two weekends of the year where you can enjoy over 100 wines\, delicious local cuisine and live music all day into the night. A celebration of Niagara and the bounty of harvest\, the Montebello Park wine and culinary experience truly showcases all that the Region has to offer!
URL:https://roadtripontario.ca/event/niagara-grape-and-wine-festival/
LOCATION:Montebello Park 64 Ontario Street\, St. Catharines\, Canada
ATTACH;FMTTYPE=image/jpeg:https://roadtripontario.ca/wp-content/uploads/2024/03/Niagara-Wine-Festival.jpg
END:VEVENT
BEGIN:VEVENT
DTSTART;VALUE=DATE:20240411
DTEND;VALUE=DATE:20240415
DTSTAMP:20260426T033346
CREATED:20240325T093640Z
LAST-MODIFIED:20240325T093640Z
UID:13754-1712793600-1713139199@roadtripontario.ca
SUMMARY:TIFF Next Wave Film Festival
DESCRIPTION:The TIFF Next Wave Film Festival returns with brand new movies free for anyone under 25. Kick things off at Battle of the Scores where four bands compete for one big prize\, celebrate the next wave of Canadian filmmakers at the Young Creators Showcase\, join our popular Loved It series with Priyanka on Hustlers\, and connect with film industry professionals for advice and inspiration at the Young Creators Co-Lab — at TIFF Lightbox. \n  \nTIFF Next Wave Official Selection films and the Young Creators Showcase are ​FREE​\nto youth under 25 or with valid student identification if over 25.
URL:https://roadtripontario.ca/event/tiff-next-wave-film-festival/
LOCATION:TIFF Bell Lightbox\, Canada
ATTACH;FMTTYPE=image/jpeg:https://roadtripontario.ca/wp-content/uploads/2024/03/TIFF-next-wave.jpg
END:VEVENT
END:VCALENDAR